BEGIN:VCALENDAR
VERSION:2.0
PRODID:-//イルチブレインヨガ公式サイト - ECPv6.15.16//NONSGML v1.0//EN
CALSCALE:GREGORIAN
METHOD:PUBLISH
X-WR-CALNAME:イルチブレインヨガ公式サイト
X-ORIGINAL-URL:https://ilchibrainyoga.com
X-WR-CALDESC:イルチブレインヨガ公式サイト のイベント
REFRESH-INTERVAL;VALUE=DURATION:PT1H
X-Robots-Tag:noindex
X-PUBLISHED-TTL:PT1H
BEGIN:VTIMEZONE
TZID:Asia/Tokyo
BEGIN:STANDARD
TZOFFSETFROM:+0900
TZOFFSETTO:+0900
TZNAME:JST
DTSTART:20250101T000000
END:STANDARD
END:VTIMEZONE
BEGIN:VEVENT
DTSTART;TZID=Asia/Tokyo:20260314T140000
DTEND;TZID=Asia/Tokyo:20260314T150000
DTSTAMP:20260420T112925
CREATED:20260303T055833Z
LAST-MODIFIED:20260303T055833Z
UID:85812-1773496800-1773500400@ilchibrainyoga.com
SUMMARY:【石橋】脳と心と体　ゆるめる瞑想会　オンラインZoom
DESCRIPTION:チャクラを整える秘訣と１５分の瞑想法をお伝えします。\n「病は気から」という言葉があるように、心や感情が体に与える影響は大きいかもしれません。\n今回の瞑想会では、体(肉体)、心(エネルギー)、脳(情報体)を３つのリズム振動を通して活性化させ、\n７つのチャクラを目覚めさせ体のバランスを整えていきます。その状態で瞑想に入るので深くリラックスでき\n自分と向き合うことが出来るようになっていきます。\nまた体がバランスを回復させることによって、体の不調を感じにくくなり、心身ともに楽になるので心にも\n余裕が生まれ、忙しかった頭がすっきりします。下半身が温かくなり健康な状態へと変化していきます。\n　\n開催日：3月14日（土）\n時間：14：00～15：00\n会場名：石橋スタジオオンライン\n会場住所：池田市石橋2-2-10　マキノビル２階\n参加費：0円\nトレーナー：山下美佐子\n持ち物：動きやすい服装、お飲み物\n問合せ電話：072-762-7507 \n\nLINEからのお申し込みはこちら⇒https://lin.ee/aObW5QQ \n\n\n  \n\n\n\n\n	\n	\n	 \n	\n		\n			\n				ご予約内容\n						（必須）\n						\n				 \n			\n			\n				体験レッスンイベント体験レッスン+オーラ撮影オーラ撮影問合せ\n				 \n				※ 入会予約はこちらからお申し込みください\n				 \n			\n		\n		\n			\n				お名前\n						（必須）\n						\n				 \n			\n			\n				\n				 \n			\n		\n		\n			\n				メールアドレス\n						（必須）\n						\n				 \n			\n			\n				\n※ 携帯電話のメールアドレスをご入力の際は、ドメイン指定の設定をされている場合”＠ilchibrainyoga.com”からのメールを受け取ることができるように設定してください。\n				 \n			\n		\n		\n			\n				お電話番号（携帯可）\n						（必須）\n						\n				 \n			\n			\n				イルチブレインヨガ各店舗からの連絡が可能な番号をご入力ください。\n\n				 \n			\n		\n		\n			\n				ご予約希望日時\n				 \n			\n			\n				ご予約希望日時をお選びください\n【希望日】タイムスケジュールに記載があるクラスからお選びください\n\n時間帯を選択してください10時台のクラス14時台のクラス18時台のクラス19時台のクラスOPENクラス子どもクラス午前のイベント午後のイベント夜のイベント\n				 \n				※ ご予約状況等によりご希望の日時に添えない場合もございます。その際は事前に調整を行う連絡をさせていただきますので予めご了承ください。\n\n				 \n			\n		\n		\n			\n				こちらのスタジオを何でお知りになりましたか？\n						 （必須）\n						\n				 \n			\n			\n				チラシ看板書籍雑誌紹介Yahoo検索Google検索口コミその他Webサイト\n				 \n			\n		\n		\n			\n				ご関心があること、習得したいこと（複数可）\n				 \n			\n			\n				自然治癒力アップ集中力アップダイエット体質改善ストレス軽減丹田強化呼吸法瞑想法その他（備考欄にご入力ください）\n				 \n			\n		\n		\n			\n				備考欄\n				 \n			\n			\n				\n				 \n			\n		\n	\n	個人情報の取扱い\n		について、同意の上送信します。\n※ ご入力頂いた情報は、株式会社DAHN WORLD JAPANからのご案内をさせて頂く以外の目的では使用致しません。\n		\n	 \n	\n	\n	 \n	※ 送信ボタンを押すとすぐ送信されます。このページで入力内容を確認してください。\n\n自動で完了メールが配信されます。\n	 \nΔ \n\n\n\n株式会社DAHN WORLD JAPAN　ダンワールドジャパン
URL:https://ilchibrainyoga.com/event/ishibashi-36/
LOCATION:オンラインzoom
CATEGORIES:大阪,石橋
ATTACH;FMTTYPE=image/png:https://ilchibrainyoga.com/wp-content/uploads/2026/03/石橋②③.png
END:VEVENT
END:VCALENDAR